BEGIN:VCALENDAR
VERSION:2.0
PRODID:-//wp-events-plugin.com//7.2.3.1//EN
BEGIN:VEVENT
UID:424@hopebridge.com
DTSTART;TZID=America/Indiana/Indianapolis:20240111T200000
DTEND;TZID=America/Indiana/Indianapolis:20240111T210000
DTSTAMP:20240104T154504Z
URL:https://www.hopebridge.com/events/aba-journal-club-2024-jan/
SUMMARY:ABA Journal Club 2024
DESCRIPTION:It is critical for practicing behavior analysts to remain in co
 ntact with the scholarly literature. In fact\, behavior analysts who are c
 ertified and/or licensed likely have an ethical obligation and requirement
  to maintain their skills and knowledge and to accrue continuing education
  hours. Despite that\, finding time to connect with research and other imp
 ortant scholarly work can be a significant challenge for professionals. AP
 BA to the rescue! Our monthly Journal Club highlights peer-reviewed works 
 relevant to your professional activities. Articles are presented by at lea
 st one of the article’s authors and give you a chance to ask questions a
 bout the article and how to put strategies into practice.\n\nThis month we
  are featuring the article titled Toward an understanding of the essentia
 l components of behavior analytic service plans.  presented by Shawn Qu
 igley. The presenter will walk us through the article with a particular fo
 cus on practical application of strategies and considerations for implemen
 tation. Attendees will be able to submit questions ahead of time and throu
 ghout the presentation.\n\nLearn more on BehaviorLive
ATTACH;FMTTYPE=image/jpeg:https://www.hopebridge.com/wp-content/uploads/20
 21/05/blog-best-aba-journals-for-professionals.jpg
CATEGORIES:Community,Professional Development
LOCATION:https://behaviorlive.com/events/apba-journal-club-january-2024
END:VEVENT
BEGIN:VTIMEZONE
TZID:America/Indiana/Indianapolis
X-LIC-LOCATION:America/Indiana/Indianapolis
BEGIN:STANDARD
DTSTART:20231105T010000
TZOFFSETFROM:-0400
TZOFFSETTO:-0500
TZNAME:EST
END:STANDARD
END:VTIMEZONE
END:VCALENDAR