BEGIN:VCALENDAR
VERSION:2.0
PRODID:-//wp-events-plugin.com//7.2.3.1//EN
BEGIN:VEVENT
UID:712@hopebridge.com
DTSTART;TZID=America/Indiana/Indianapolis:20250905T110000
DTEND;TZID=America/Indiana/Indianapolis:20250907T170000
DTSTAMP:20250828T145906Z
URL:https://www.hopebridge.com/events/abilities-expo-scottsdale-az/
SUMMARY:AZ | Abilities Expo (Scottsdale\, AZ)
DESCRIPTION:Abilities Expo showcases the latest products\, technology\, wor
 kshops\, an all-inclusive climbing wall\, adaptive sports/dance and more f
 or individuals with disabilities and their families. \n\n 	Ages: All ages
  welcome\n 	Cost: FREE\n 	Link: Abilities Expo | Phoenix Event\n
CATEGORIES:Conferences
LOCATION:WestWorld of Scottsdale\, 16601 N. Pima Rd\, Scottsdale \, AZ\, 85
 2605\, United States
GEO:33.633961;-111.888345
X-APPLE-STRUCTURED-LOCATION;VALUE=URI;X-ADDRESS=16601 N. Pima Rd\, Scottsda
 le \, AZ\, 852605\, United States;X-APPLE-RADIUS=100;X-TITLE=WestWorld of 
 Scottsdale:geo:33.633961,-111.888345
END:VEVENT
BEGIN:VTIMEZONE
TZID:America/Indiana/Indianapolis
X-LIC-LOCATION:America/Indiana/Indianapolis
BEGIN:DAYLIGHT
DTSTART:20250309T030000
TZOFFSETFROM:-0500
TZOFFSETTO:-0400
TZNAME:EDT
END:DAYLIGHT
END:VTIMEZONE
END:VCALENDAR