BEGIN:VCALENDAR
VERSION:2.0
PRODID:-//wp-events-plugin.com//7.2.3.1//EN
BEGIN:VEVENT
UID:525@hopebridge.com
DTSTART;TZID=America/Indiana/Indianapolis;VALUE=DATE:20240601
DTEND;TZID=America/Indiana/Indianapolis;VALUE=DATE:20240731
DTSTAMP:20240618T174034Z
URL:https://www.hopebridge.com/events/adaptive-sensory-friendly-swim-in-su
 mmer-2024/
SUMMARY:Adaptive Sensory-Friendly Swim | IN
DESCRIPTION:The Waterpark in Carmel presents its Adaptive Sensory-Friendly 
 Swim events\, specifically crafted for families with members who have disa
 bilities. These special evenings provide an environment free from common d
 istractions\, such as loud music and bustling concession stands\, allowing
  families to truly enjoy their time at the waterpark. Below is a concise y
 et comprehensive overview of the event details:\nEvent Overview:\n\n 	Purp
 ose: Designed specifically for individuals with disabilities and their fa
 milies\, offering a less overwhelming and more enjoyable experience.\n 	Ac
 tivities Available: Attendees will have full access to The Waterpark’s 
 main activity pool\, slides\, and lazy river\, ensuring ample opportunitie
 s for swimming\, playing\, and socializing in a controlled and serene envi
 ronment.\n\n2024 Event Dates and Times:\n\n 	Scheduled Dates: The program
  will occur on June 4\, June 18\, July 2\, July 16\, and July 30.\n 	Event
  Duration: Each event will run from 7:30 p.m. to 9:30 p.m.\, providing tw
 o hours of entertainment under a night sky.\n\nAdmission and Registration:
 \n\n 	Admission Cost: $20 per family\n 	Registration Requirement: Pre-re
 gistration is mandatory\, and only one member per family must sign up to f
 acilitate the registration process.\n\nAdditional Information:\n\n 	Food a
 nd Drink Policy: Families are welcome to bring outside food and drinks to
  cater to individual dietary needs and preferences.\n 	Capacity Limitation
 : To ensure an optimal experience for all attendees\, the capacity for the
 se events is deliberately limited.\n
ATTACH;FMTTYPE=image/jpeg:https://www.hopebridge.com/wp-content/uploads/20
 20/02/Tasneem-swimming.jpg
CATEGORIES:Community
LOCATION:The Waterpark at the Monon Community Center\, 1195 Central Park Dr
 ive W\, Carmel\, IN\, 46032\, United States
GEO:39.951115;-86.137829
X-APPLE-STRUCTURED-LOCATION;VALUE=URI;X-ADDRESS=1195 Central Park Drive W\,
  Carmel\, IN\, 46032\, United States;X-APPLE-RADIUS=100;X-TITLE=The Waterp
 ark at the Monon Community Center:geo:39.951115,-86.137829
END:VEVENT
BEGIN:VTIMEZONE
TZID:America/Indiana/Indianapolis
X-LIC-LOCATION:America/Indiana/Indianapolis
BEGIN:DAYLIGHT
DTSTART:20240310T030000
TZOFFSETFROM:-0500
TZOFFSETTO:-0400
TZNAME:EDT
END:DAYLIGHT
END:VTIMEZONE
END:VCALENDAR