BEGIN:VCALENDAR
VERSION:2.0
PRODID:-//wp-events-plugin.com//7.2.3.1//EN
BEGIN:VEVENT
UID:345@hopebridge.com
DTSTART;TZID=America/Indiana/Indianapolis:20230727T120000
DTEND;TZID=America/Indiana/Indianapolis:20230727T130000
DTSTAMP:20230710T133931Z
URL:https://www.hopebridge.com/events/adulting-on-the-spectrum-webinar-27-
 7-2023/
SUMMARY:Adulting on the Spectrum Webinar
DESCRIPTION:Are you an adult who was recently diagnosed with autism\, curre
 ntly seeking a diagnosis\, or curious if you should seek one? Do you wonde
 r how a diagnosis impacts your life? Join Autism Speaks for a free webinar
  where we will provide a glimpse into adult life on the spectrum\, support
 ed by testimonials from autistic adults.\n\nTopics that will be discussed:
 \n\n• Common co-occurring conditions and related issues\, including mask
 ing and autistic burnout\n\n• Self-advocacy\, including disclosing your 
 diagnosis\n\n• Self-care tips\n\n• Finding your community\n\n• Relia
 ble tools and resources to support you in your journey\n\nEVENT PAGE\n
ATTACH;FMTTYPE=image/jpeg:https://www.hopebridge.com/wp-content/uploads/20
 23/05/hopebridge-assessment-platform-launch-blog.jpg
CATEGORIES:Community
LOCATION:https://autismspeaks.zoom.us/webinar/register/8516886558213/WN_V-W
 DFamqQ0OLZ37xV0SljA#/registration
END:VEVENT
BEGIN:VTIMEZONE
TZID:America/Indiana/Indianapolis
X-LIC-LOCATION:America/Indiana/Indianapolis
BEGIN:DAYLIGHT
DTSTART:20230312T030000
TZOFFSETFROM:-0500
TZOFFSETTO:-0400
TZNAME:EDT
END:DAYLIGHT
END:VTIMEZONE
END:VCALENDAR