BEGIN:VCALENDAR
VERSION:2.0
PRODID:-//wp-events-plugin.com//7.2.3.1//EN
BEGIN:VEVENT
UID:543@hopebridge.com
DTSTART;TZID=America/Indiana/Indianapolis:20240812T160000
DTEND;TZID=America/Indiana/Indianapolis:20240812T170000
DTSTAMP:20240809T172842Z
URL:https://www.hopebridge.com/events/analysis-of-training-practitioners-t
 o-implement-pfa-sbt-to-address-severe-problem-behavior/
SUMMARY:Analysis of Training Practitioners to Implement PFA/SBT to Address 
 Severe Problem Behavior
DESCRIPTION:Recently in ABA\, there has been a significant push towards com
 passionate assessment and treatment of severe challenging behavior (Penney
 \, Bateman\, Veverka\, &amp\; Luna\, 2023). Although compassion is not new
  to practitioners\, coursework and training in this domain is lacking (Col
 ombo\, Taylor\, &amp\; Hammond\, 2021)\; therefore\, it is often left to e
 mployers or other organizations to fill this gap. Synthesized functional a
 ssessments (Hanley et al.\, 2013) and Skill-Based (SBT\; Ghaemmaghami\, Ha
 nely\, &amp\; Jessel\, 2016)\, methods praised for their use of compassion
  have also gained momentum. To respond to this feedback at an organization
 al level\, experienced practitioners created a training program for BCBAs 
 looking to expand their knowledge and implementation of PFA and SBT within
  their practice. This presentation will review the research contributions 
 to the training model\, design\, methods\, and outcomes (e.g.\, knowledge 
 gain\, satisfaction). Ongoing evolutions of the training method\, based on
  outcomes\, will also be reviewed.\n\nHosted by Hopebridge's Clinical Dire
 ctor of Functional Assessment\, Taylor Thomas.\n\nRegister on BehaviorLIVE
 \n\nEVENT PAGE
ATTACH;FMTTYPE=image/jpeg:https://www.hopebridge.com/wp-content/uploads/20
 24/08/CE-Promo_Aug12.jpg
CATEGORIES:Hopebridge,Professional Development
LOCATION:https://behaviorlive.com/events/analysis-of-training-practitioners
 -to-implement-pfa-sbt-to-address-severe-problem
END:VEVENT
BEGIN:VTIMEZONE
TZID:America/Indiana/Indianapolis
X-LIC-LOCATION:America/Indiana/Indianapolis
BEGIN:DAYLIGHT
DTSTART:20240310T030000
TZOFFSETFROM:-0500
TZOFFSETTO:-0400
TZNAME:EDT
END:DAYLIGHT
END:VTIMEZONE
END:VCALENDAR