BEGIN:VCALENDAR
VERSION:2.0
PRODID:-//wp-events-plugin.com//7.2.3.1//EN
BEGIN:VEVENT
UID:253@hopebridge.com
DTSTART;TZID=America/Indiana/Indianapolis;VALUE=DATE:20230421
DTEND;TZID=America/Indiana/Indianapolis;VALUE=DATE:20230422
DTSTAMP:20230106T165149Z
URL:https://www.hopebridge.com/events/apf-2023-conference/
SUMMARY:APF 2023 Conference
DESCRIPTION:Autism Partnership Foundation's 8th Annual Conference\n\nAttend
  this annual conference in person or virtually. The presentations will inc
 lude topics such as:\n\n 	\n\n 	Working Together to Make a Difference\n 	P
 anel: Autism and ABA - From an Autistic Person's Perspective\n 	Upsetting 
 the Apple Cart: Progressive Practices in Business\n 	Concerns about ABA: A
  Thoughtful Discussion\n 	There is No Such Thing as a Bad Behavior Analyst
 \n 	Panel: Autism and ABA - A Parental Perspective\n 	Contracting: A posit
 ive Way to Improve Family Dynamics and Learn New Skills\n\n\n\nRegister fo
 r this conference through BehaviorLive.
ATTACH;FMTTYPE=image/jpeg:https://www.hopebridge.com/wp-content/uploads/20
 22/07/Conference-ABA-Autism-2022.jpg
CATEGORIES:Conferences,Professional Development
LOCATION:https://behaviorlive.com/apf/registration
END:VEVENT
BEGIN:VTIMEZONE
TZID:America/Indiana/Indianapolis
X-LIC-LOCATION:America/Indiana/Indianapolis
BEGIN:DAYLIGHT
DTSTART:20230312T030000
TZOFFSETFROM:-0500
TZOFFSETTO:-0400
TZNAME:EDT
END:DAYLIGHT
END:VTIMEZONE
END:VCALENDAR