BEGIN:VCALENDAR
VERSION:2.0
PRODID:-//wp-events-plugin.com//7.2.3.1//EN
BEGIN:VEVENT
UID:343@hopebridge.com
DTSTART;TZID=America/Phoenix:20230620T180000
DTEND;TZID=America/Phoenix:20230620T200000
DTSTAMP:20230615T144226Z
URL:https://www.hopebridge.com/events/assa-sensory-friendly-jump-at-get-ai
 r-trampoline-park-20-06-23/
SUMMARY:ASSA Sensory Friendly Jump at Get Air Trampoline Park
DESCRIPTION:Sensory friendly jump session for autism families and other ama
 zing abilities.\n\nGet air trampoline park\, 330 S Toole Ave. Tucson\, AZ 
 85701
ATTACH;FMTTYPE=image/jpeg:https://www.hopebridge.com/wp-content/uploads/20
 18/01/Hopebridge-Fort-Wayne-Kids-Sensory-Gym-Play.jpg
CATEGORIES:Community
LOCATION:Get Air Trampoline Park\, 330 S Toole Ave.\, Tucson\, AZ\, 85701\,
  United States
GEO:32.217615;-110.961561
X-APPLE-STRUCTURED-LOCATION;VALUE=URI;X-ADDRESS=330 S Toole Ave.\, Tucson\,
  AZ\, 85701\, United States;X-APPLE-RADIUS=100;X-TITLE=Get Air Trampoline 
 Park:geo:32.217615,-110.961561
END:VEVENT
BEGIN:VTIMEZONE
TZID:America/Phoenix
X-LIC-LOCATION:America/Phoenix
BEGIN:STANDARD
DTSTART:20220620T180000
TZOFFSETFROM:-0700
TZOFFSETTO:-0700
TZNAME:MST
END:STANDARD
END:VTIMEZONE
END:VCALENDAR