BEGIN:VCALENDAR
VERSION:2.0
PRODID:-//wp-events-plugin.com//7.2.3.1//EN
BEGIN:VEVENT
UID:12@hopebridge.com
DTSTART;VALUE=DATE:20221104
DTEND;VALUE=DATE:20221106
DTSTAMP:20221025T151926Z
URL:https://www.hopebridge.com/events/behavior-analytic-conference-coaba-0
 1-11-2022/
SUMMARY:Behavior Analytic Conference - COABA
DESCRIPTION:Colorado Association for Behavior Analytics Conference\nJoin CO
 ABA for their annual conference on November 4th and 5th at a new location:
  Sheraton Denver Tech Center!\n\nRegistration is open! Make sure your CoAB
 A membership is up to date for a discounted rate.\n\nREGISTER\nTopics\nThi
 s year’s topics include medical necessity\, burnout\, motivating operati
 ons\, providing services in schools\, and disseminating behavior analysis.
 \nWorkshop\nPresenter: Sarah Trautman\, MA BCBA\n\nTitle: Scope of Compete
 ncy: It’s MORE than just Clinical Skills\n\nAbstract: An important and o
 ften overlooked area for practicing BCBAs is devoting time and energy to i
 ncreasing one’s scope of competency in the SYSTEM that they work within 
 (read: context matters…like a lot). Many Behavior Analysts operate withi
 n the US healthcare system (specifically Behavioral Health). Therefore\, e
 nsuring that BCBA’s are presented with and understand critical informati
 on regarding HOW behavioral healthcare systems operate\, the parameters an
 d limitations that exist\, and the current trends that impact ABA service 
 delivery is key to help increase the competencies and professionalism of p
 ractitioners. Additionally\, allocating time to increasing fluency in the 
 systems that BCBAs use daily as part of their job will help improve time m
 anagement\, task prioritization\, create efficiencies at all levels and\, 
 most importantly\, will help create more time to DO great clinical work. L
 astly\, improving skills in the areas of effective professional boundaries
  will help BCBAs combat burnout…and experience more joy at work (serious
 ly)!\n\nNot sure what to expect? For a detailed program please click the l
 ink below:\n\nEVENT WEBSITE
ATTACH;FMTTYPE=image/jpeg:https://www.hopebridge.com/wp-content/uploads/20
 22/06/blog-header-BCBA-Conferences-2021-2022.jpg
CATEGORIES:Conferences,Professional Development
LOCATION:Sheraton Denver Tech Center Hotel\, 7007 South Clinton Street\, Gr
 eenwood Village\, CO\, 80112\, United States
GEO:39.589518;-104.880033
X-APPLE-STRUCTURED-LOCATION;VALUE=URI;X-ADDRESS=7007 South Clinton Street\,
  Greenwood Village\, CO\, 80112\, United States;X-APPLE-RADIUS=100;X-TITLE
 =Sheraton Denver Tech Center Hotel:geo:39.589518,-104.880033
END:VEVENT
END:VCALENDAR