BEGIN:VCALENDAR
VERSION:2.0
PRODID:-//wp-events-plugin.com//7.2.3.1//EN
BEGIN:VEVENT
UID:752@hopebridge.com
DTSTART;TZID=America/Indiana/Indianapolis:20260419T100000
DTEND;TZID=America/Indiana/Indianapolis:20260419T140000
DTSTAMP:20260324T194537Z
URL:https://www.hopebridge.com/events/best-buddies-friendship-walk-knoxvil
 le-2026/
SUMMARY:Best Buddies Friendship Walk 2026 | Knoxville
DESCRIPTION:About Best Buddies Friendship Walk\nThe Best Buddies Friendship
  Walk is the leading event in the country supporting inclusion for people 
 with intellectual and developmental disabilities (IDD).\n\nJoin more than 
 50\,000 participants at 80 events across the globe to support the Best Bud
 dies programs in schools\, workplaces\, and communities. You’ll be makin
 g the world more welcoming to people with IDD — one friendship\, one job
 \, and one life-changing connection at a time.\n\nREGISTER: www.bestbuddie
 sfriendshipwalk.org/knoxville/register/\nSchedule\nApril 19\, 2026\nCheck-
 in: 10:00 AM\nOpening Ceremonies: 11:00 AM\nWalk: 11:35 AM\nCelebrate Unti
 l: 2:00 PM
ATTACH;FMTTYPE=image/jpeg:https://www.hopebridge.com/wp-content/uploads/20
 25/03/Best-Buddies-Friendship-Walk-Event-IDD.jpg
CATEGORIES:Community,Walks
LOCATION:UTK Humanities and Social Sciences Lawn and Plaza\, 1115 Volunteer
  Blvd\, Knoxville\, TN\, 37916\, 
GEO:35.95359;-83.928883
X-APPLE-STRUCTURED-LOCATION;VALUE=URI;X-ADDRESS=1115 Volunteer Blvd\, Knoxv
 ille\, TN\, 37916\, ;X-APPLE-RADIUS=100;X-TITLE=UTK Humanities and Social 
 Sciences Lawn and Plaza:geo:35.95359,-83.928883
END:VEVENT
BEGIN:VTIMEZONE
TZID:America/Indiana/Indianapolis
X-LIC-LOCATION:America/Indiana/Indianapolis
BEGIN:DAYLIGHT
DTSTART:20260308T030000
TZOFFSETFROM:-0500
TZOFFSETTO:-0400
TZNAME:EDT
END:DAYLIGHT
END:VTIMEZONE
END:VCALENDAR