BEGIN:VCALENDAR
VERSION:2.0
PRODID:-//wp-events-plugin.com//7.2.3.1//EN
BEGIN:VEVENT
UID:750@hopebridge.com
DTSTART;TZID=America/Indiana/Indianapolis:20260502T100000
DTEND;TZID=America/Indiana/Indianapolis:20260502T130000
DTSTAMP:20260324T193655Z
URL:https://www.hopebridge.com/events/best-buddies-friendship-walk-nashvil
 le-2026/
SUMMARY:Best Buddies Friendship Walk 2026 | Nashville
DESCRIPTION:About Best Buddies Friendship Walk\nThe Best Buddies Friendship
  Walk is the leading event in the country supporting inclusion for people 
 with intellectual and developmental disabilities (IDD).\n\nJoin more than 
 50\,000 participants at 80 events across the globe to support the Best Bud
 dies programs in schools\, workplaces\, and communities. You’ll be makin
 g the world more welcoming to people with IDD — one friendship\, one job
 \, and one life-changing connection at a time.\n\nREGISTER: www.bestbuddie
 sfriendshipwalk.org/nashville/register/\nSchedule\nSaturday\, May 2\, 2026
 \nCheck-in: 10:00AM\nOpening Ceremonies: 10:30AM\nWalk: 11:00AM\nCelebrate
  Until: 12PM
ATTACH;FMTTYPE=image/jpeg:https://www.hopebridge.com/wp-content/uploads/20
 25/03/Best-Buddies-Friendship-Walk-Event-IDD.jpg
CATEGORIES:Community,Walks
LOCATION:Geodis Park\, 501 Benton Ave\, Nashville\, TN\, 37204\, United Sta
 tes
GEO:36.134111;-86.761278
X-APPLE-STRUCTURED-LOCATION;VALUE=URI;X-ADDRESS=501 Benton Ave\, Nashville\
 , TN\, 37204\, United States;X-APPLE-RADIUS=100;X-TITLE=Geodis Park:geo:36
 .134111,-86.761278
END:VEVENT
BEGIN:VTIMEZONE
TZID:America/Indiana/Indianapolis
X-LIC-LOCATION:America/Indiana/Indianapolis
BEGIN:DAYLIGHT
DTSTART:20260308T030000
TZOFFSETFROM:-0500
TZOFFSETTO:-0400
TZNAME:EDT
END:DAYLIGHT
END:VTIMEZONE
END:VCALENDAR