BEGIN:VCALENDAR
VERSION:2.0
PRODID:-//wp-events-plugin.com//7.2.3.1//EN
BEGIN:VEVENT
UID:759@hopebridge.com
DTSTART;TZID=America/Indiana/Indianapolis:20260329T140000
DTEND;TZID=America/Indiana/Indianapolis:20260329T170000
DTSTAMP:20260324T200718Z
URL:https://www.hopebridge.com/events/best-buddies-friendship-walk-tallaha
 ssee-2026/
SUMMARY:Best Buddies Friendship Walk 2026 | Tallahassee
DESCRIPTION:About Best Buddies Friendship Walk\nThe Best Buddies Friendship
  Walk is the leading event in the country supporting inclusion for people 
 with intellectual and developmental disabilities (IDD).\n\nJoin more than 
 50\,000 participants at 80 events across the globe to support the Best Bud
 dies programs in schools\, workplaces\, and communities. You’ll be makin
 g the world more welcoming to people with IDD — one friendship\, one job
 \, and one life-changing connection at a time.\n\nREGISTER: https://www.be
 stbuddiesfriendshipwalk.org/tallahassee/\nSchedule\nSunday\, March 29\, 20
 26\nCheck-in: 2:00 PM\nOpening Ceremonies: 3:00 PM\nWalk: 3:30 PM\nAwards:
  4:00 PM\nCelebrate Until: 5:00 PM
ATTACH;FMTTYPE=image/jpeg:https://www.hopebridge.com/wp-content/uploads/20
 25/03/Best-Buddies-Friendship-Walk-Event-IDD.jpg
CATEGORIES:Community,Walks
LOCATION:Parkview at Cascades Park\, 414 E. Bloxham\, Tallahassee\, FL\, 32
 301\, 
GEO:30.434906;-84.279184
X-APPLE-STRUCTURED-LOCATION;VALUE=URI;X-ADDRESS=414 E. Bloxham\, Tallahasse
 e\, FL\, 32301\, ;X-APPLE-RADIUS=100;X-TITLE=Parkview at Cascades Park:geo
 :30.434906,-84.279184
END:VEVENT
BEGIN:VTIMEZONE
TZID:America/Indiana/Indianapolis
X-LIC-LOCATION:America/Indiana/Indianapolis
BEGIN:DAYLIGHT
DTSTART:20260308T030000
TZOFFSETFROM:-0500
TZOFFSETTO:-0400
TZNAME:EDT
END:DAYLIGHT
END:VTIMEZONE
END:VCALENDAR