BEGIN:VCALENDAR
VERSION:2.0
PRODID:-//wp-events-plugin.com//7.2.3.1//EN
BEGIN:VEVENT
UID:122@hopebridge.com
DTSTART;TZID=America/Indiana/Indianapolis:20220824T150000
DTEND;TZID=America/Indiana/Indianapolis:20220824T164500
DTSTAMP:20220803T160424Z
URL:https://www.hopebridge.com/events/caring-about-the-caregiver-ethics-of
 -effective-collaboration-24-08-2022/
SUMMARY:Caring About the Caregiver: Ethics of Effective Collaboration
DESCRIPTION:Event Description\n\nThe Practice Guidelines for Healthcare Fun
 ders and Managers (CASP\, 2020) categorizes caregiver consultation as a cr
 itical feature of treatment. However\, across the industry\, caregiver con
 sultation is rarely prioritized and when it is\, the quality of this suppo
 rt is highly variable. Drawing on collective experiences\, working with an
 d for healthcare funders\, the presenters will share common mistakes and m
 issteps made by analysts when conceptualizing caregiver support. Our goal 
 of this presentation is to establish a higher standard of care for clients
  by presenting proven practices\, as well as a model of consultation\, whi
 ch we believe will lead to an increase in caregiver engagement. Tying ethi
 cs into the discussion\, an additional aim of this presentation is to prov
 ide attendees with strategies to improve communication and enhance coordin
 ation with caregivers for the clients we serve.\n\nLearning objectives\n\n
  	List three resources in the literature which describe successful caregiv
 er models.\n 	Name two common mistakes or missteps made by analysts when c
 onceptualizing caregiver involvement.\n 	List three ethics code strands th
 at directly relate to our obligation to work collaboratively and successfu
 lly with caregivers.\n\nRegister Now\, watch later!\n\nThis event will be 
 recorded and available on-demand for existing registrants. Register now\, 
 and access it live or on-demand for CEUs.\n\nCE Credits: 2 CE (2 ETH)
ATTACH;FMTTYPE=image/jpeg:https://www.hopebridge.com/wp-content/uploads/20
 22/08/CEU-Professional-Development-Autism-Event-Listing.jpg
CATEGORIES:Professional Development
LOCATION:https://behaviorlive.com/events/caring-about-the-caregiver-ethics-
 of-effective-collaboration
END:VEVENT
BEGIN:VTIMEZONE
TZID:America/Indiana/Indianapolis
X-LIC-LOCATION:America/Indiana/Indianapolis
BEGIN:DAYLIGHT
DTSTART:20220313T030000
TZOFFSETFROM:-0500
TZOFFSETTO:-0400
TZNAME:EDT
END:DAYLIGHT
END:VTIMEZONE
END:VCALENDAR