BEGIN:VCALENDAR
VERSION:2.0
PRODID:-//wp-events-plugin.com//7.2.3.1//EN
BEGIN:VEVENT
UID:419@hopebridge.com
DTSTART;TZID=America/Indiana/Indianapolis;VALUE=DATE:20240117
DTEND;TZID=America/Indiana/Indianapolis;VALUE=DATE:20240120
DTSTAMP:20231222T164826Z
URL:https://www.hopebridge.com/events/dadd-25th-annual-conference-2024/
SUMMARY:DADD 25th Annual Conference
DESCRIPTION:International Conference on Autism\, Intellectual Disability &a
 mp\; Developmental Disabilities\nCalling all educators\, administrators\, 
 researchers\, college instructors\, and related professionals working in t
 he field of autism\, intellectual disability and/or developmental disabili
 ties... DADD’s conference is for you! Presenters will share the most cur
 rent research and practice recommendations related to improving educationa
 l outcomes for individuals with autism/autistic individuals\, intellectual
  disability\, and/or developmental disabilities\, with a focus on Diversit
 y\, Equity\, Inclusion\, and Justice (DEIJ).\n\nFor more information and t
 o register for this event\, visit the event page below\n\nEVENT PAGE
ATTACH;FMTTYPE=image/jpeg:https://www.hopebridge.com/wp-content/uploads/20
 22/07/Conference-ABA-Autism-2022.jpg
LOCATION:Hilton Hawaiian Village Waikiki Beach Resort\, 2005 Kalia Rd. \, H
 onolulu\, HI\, 96815\, United States
GEO:21.282908;-157.837421
X-APPLE-STRUCTURED-LOCATION;VALUE=URI;X-ADDRESS=2005 Kalia Rd. \, Honolulu\
 , HI\, 96815\, United States;X-APPLE-RADIUS=100;X-TITLE=Hilton Hawaiian Vi
 llage Waikiki Beach Resort:geo:21.282908,-157.837421
END:VEVENT
BEGIN:VTIMEZONE
TZID:America/Indiana/Indianapolis
X-LIC-LOCATION:America/Indiana/Indianapolis
BEGIN:STANDARD
DTSTART:20231105T010000
TZOFFSETFROM:-0400
TZOFFSETTO:-0500
TZNAME:EST
END:STANDARD
END:VTIMEZONE
END:VCALENDAR