BEGIN:VCALENDAR
VERSION:2.0
PRODID:-//wp-events-plugin.com//7.2.3.1//EN
BEGIN:VEVENT
UID:221@hopebridge.com
DTSTART;TZID=America/Indiana/Indianapolis;VALUE=DATE:20221111
DTEND;TZID=America/Indiana/Indianapolis;VALUE=DATE:20221113
DTSTAMP:20221020T154214Z
URL:https://www.hopebridge.com/events/gaba-conference-11-11-22/
SUMMARY:GABA Conference 2022
DESCRIPTION:Join the Georgia Association for Behavior Analysis for their an
 nual conference. This conference will be hybrid and participants can atten
 d in person in Decatur\, GA or online via BehaviorLive. This two-day event
  is one that you will not want to miss!\n\nREGISTRATION
ATTACH;FMTTYPE=image/jpeg:https://www.hopebridge.com/wp-content/uploads/20
 22/10/GABA.png
CATEGORIES:Conferences,Professional Development
LOCATION:Courtyard Atlanta Decatur  Downtown/Emory\, 130 Clairmont Ave.\, D
 ecatur\, GA\, 30030\, United States
GEO:33.776852;-84.297079
X-APPLE-STRUCTURED-LOCATION;VALUE=URI;X-ADDRESS=130 Clairmont Ave.\, Decatu
 r\, GA\, 30030\, United States;X-APPLE-RADIUS=100;X-TITLE=Courtyard Atlant
 a Decatur  Downtown/Emory:geo:33.776852,-84.297079
END:VEVENT
BEGIN:VTIMEZONE
TZID:America/Indiana/Indianapolis
X-LIC-LOCATION:America/Indiana/Indianapolis
BEGIN:STANDARD
DTSTART:20221106T010000
TZOFFSETFROM:-0400
TZOFFSETTO:-0500
TZNAME:EST
END:STANDARD
END:VTIMEZONE
END:VCALENDAR