BEGIN:VCALENDAR
VERSION:2.0
PRODID:-//wp-events-plugin.com//7.2.3.1//EN
BEGIN:VEVENT
UID:672@hopebridge.com
DTSTART;TZID=America/New_York:20250319T173000
DTEND;TZID=America/New_York:20250319T193000
DTSTAMP:20250307T203411Z
URL:https://www.hopebridge.com/events/nc-sensory-friendly-playtime-movie-a
 t-marbles-kids-museum-march-2025/
SUMMARY:NC | Sensory Friendly Playtime & Movie at Marbles Kids Museum
DESCRIPTION:Join us for this FREE event exclusively for kids with disabilit
 ies and their families to experience Marbles in a calmer\, quieter environ
 ment. Sensory Friendly Playtime occurs monthly throughout the year. We loo
 k forward to your visit!\n\nWhat to Expect at Sensory Friendly Playtime:\n
 \nPrior to Sensory Friendly Playtime you and your guests can watch a free
  Lights Up\, Sound Down movie. The lights will remain on and the sound 
 is turned down so you can hear the person beside you. Registered participa
 nts may attend the movie. Tickets for the movie are not needed\, just head
  over to the IMAX theater and you will be greeted by the Marbles staff.\n\
 nPartner organizations will be on-site inside the museum lobby and other a
 ccommodations to assist with your visit to Marbles.\n\nEVENT PAGE
ATTACH;FMTTYPE=image/jpeg:https://www.hopebridge.com/wp-content/uploads/20
 25/03/sfp-website-abs_kids-02-2022101810062355-scaled.webp
CATEGORIES:Community
LOCATION:Marbles Kids Museum\, 201 East Hargett Street\, Raleigh\, NC\, 276
 01\, United States
GEO:35.779242;-78.635485
X-APPLE-STRUCTURED-LOCATION;VALUE=URI;X-ADDRESS=201 East Hargett Street\, R
 aleigh\, NC\, 27601\, United States;X-APPLE-RADIUS=100;X-TITLE=Marbles Kid
 s Museum:geo:35.779242,-78.635485
END:VEVENT
BEGIN:VTIMEZONE
TZID:America/New_York
X-LIC-LOCATION:America/New_York
BEGIN:DAYLIGHT
DTSTART:20250309T030000
TZOFFSETFROM:-0500
TZOFFSETTO:-0400
TZNAME:EDT
END:DAYLIGHT
END:VTIMEZONE
END:VCALENDAR