BEGIN:VCALENDAR
VERSION:2.0
PRODID:-//wp-events-plugin.com//7.2.3.1//EN
BEGIN:VEVENT
UID:505@hopebridge.com
DTSTART;TZID=America/Indiana/Indianapolis;VALUE=DATE:20240413
DTEND;TZID=America/Indiana/Indianapolis;VALUE=DATE:20240415
DTSTAMP:20240408T140229Z
URL:https://www.hopebridge.com/events/sensory-friendly-haircut-at-black-sh
 ears-barbershop-ky-2024-04-13/
SUMMARY:Sensory Friendly Haircut at Black Shears Barbershop | KY
DESCRIPTION:Please join us every Saturday in April for sensory hours Haircu
 ts &amp\; barbershop confidence building.\nSmall sensory gifts\nSensory fo
 ods every Saturday 🧩🧩\n\n🟢HAIR cuts include 1 1/2 Hour of patienc
 e from a barber certified through feat “Families for affective Autism tr
 eatment\n🟡Barbershop confidence\, meet the barber\, see tools used for 
 hair cutting\, get familiar with the shop environment\n🔵blue lighting\,
  sound cancellation ear buds\, weighted cape!\n🔴 behavioral assistance 
 from a specialist\n\nBOOK NOW or WALKINS-WELCOME
ATTACH;FMTTYPE=image/jpeg:https://www.hopebridge.com/wp-content/uploads/20
 18/04/blog-hopebridge-haircuts-3.jpg
CATEGORIES:Community
LOCATION:Black Shears Barbershop\, 5619 Bardstown Rd\, Louisville\, KY\, 40
 291\, United States
GEO:38.164573;-85.597523
X-APPLE-STRUCTURED-LOCATION;VALUE=URI;X-ADDRESS=5619 Bardstown Rd\, Louisvi
 lle\, KY\, 40291\, United States;X-APPLE-RADIUS=100;X-TITLE=Black Shears B
 arbershop:geo:38.164573,-85.597523
END:VEVENT
BEGIN:VTIMEZONE
TZID:America/Indiana/Indianapolis
X-LIC-LOCATION:America/Indiana/Indianapolis
BEGIN:DAYLIGHT
DTSTART:20240310T030000
TZOFFSETFROM:-0500
TZOFFSETTO:-0400
TZNAME:EDT
END:DAYLIGHT
END:VTIMEZONE
END:VCALENDAR