BEGIN:VCALENDAR
VERSION:2.0
PRODID:-//wp-events-plugin.com//7.2.3.1//EN
BEGIN:VEVENT
UID:596@hopebridge.com
DTSTART;TZID=America/Chicago:20241208T090000
DTEND;TZID=America/Chicago:20241208T103000
DTSTAMP:20241114T203803Z
URL:https://www.hopebridge.com/events/sensory-santa-at-green-hills-mall-tn
 -2024/
SUMMARY:Sensory Santa at Green Hills Mall | TN
DESCRIPTION:Join us for a special sensory-friendly Santa experience at Sant
 a's Flight Academy on Sunday\, December 8th from 9:00 AM - 10:30 AM. Indiv
 iduals and their families are invited to a private photo session where ext
 ra care is taken to support the sensory\, physical\, and other development
 al needs to make this a magical holiday experience. Lights and music will 
 be turned down to help create a calming environment.
ATTACH;FMTTYPE=image/jpeg:https://www.hopebridge.com/wp-content/uploads/20
 19/12/santa-cover.jpg
CATEGORIES:Community
LOCATION:https://shopgreenhills.com/events/the-mall-at-green-hills-sensory-
 santa
END:VEVENT
BEGIN:VTIMEZONE
TZID:America/Chicago
X-LIC-LOCATION:America/Chicago
BEGIN:STANDARD
DTSTART:20241103T010000
TZOFFSETFROM:-0500
TZOFFSETTO:-0600
TZNAME:CST
END:STANDARD
END:VTIMEZONE
END:VCALENDAR