BEGIN:VCALENDAR
VERSION:2.0
PRODID:-//wp-events-plugin.com//7.2.3.1//EN
BEGIN:VEVENT
UID:762@hopebridge.com
DTSTART;TZID=America/Indiana/Indianapolis:20260418T120000
DTEND;TZID=America/Indiana/Indianapolis:20260418T150000
DTSTAMP:20260324T201727Z
URL:https://www.hopebridge.com/events/spring-fun-festival-ga-18-04-2026/
SUMMARY:Spring Fun Festival at We Rock the Spectrum | GA
DESCRIPTION:Spring Fun Festival 2026 — FREE Community Celebration!\nKick 
 off spring in the most colorful way possible! Join us for a high-energy\, 
 inclusive community festival celebrating America's 250th anniversary right
  here in Roswell — where families come together to run\, play\, dance\, 
 and make unforgettable memories.\n\nNo pressure. No competition. Just pure
 \, joyful fun for ALL abilities and ages!\n\n🎟 FREE Entry Registration 
 Required\n\nWhat's happening:\n✨ Non-Competitive Color Fun Run\n🎶 Liv
 e Music\n🫧 Foam Party\n🎡 Carnival Games\n🧗 Climbing Fun\n🇺🇸
  America 250 Roswell Community Celebration\n💛 Benefiting My Brother Roc
 ks The Spectrum Foundation\n\n👕 Pro tip: Wear a white shirt and bring y
 our spring energy — you're going to want to be ready for color!\n\nSpots
  are limited — register today to secure your family's place at Roswell's
  most colorful celebration of the year!\n\n📍 614 W Crossville Rd\, Rosw
 ell GA 30075\n📱 @wrtsroswellatlanta
ATTACH;FMTTYPE=image/jpeg:https://www.hopebridge.com/wp-content/uploads/20
 26/03/We-Rock-the-Spectrum-Spring-Fun-Fest-2026.jpg
CATEGORIES:Community
LOCATION:We Rock The Spectrum Kids Gym Atlanta\, 614 West Crossville Road\,
  Roswell\, GA\, 30075\, United States
GEO:34.056314;-84.380455
X-APPLE-STRUCTURED-LOCATION;VALUE=URI;X-ADDRESS=614 West Crossville Road\, 
 Roswell\, GA\, 30075\, United States;X-APPLE-RADIUS=100;X-TITLE=We Rock Th
 e Spectrum Kids Gym Atlanta:geo:34.056314,-84.380455
END:VEVENT
BEGIN:VTIMEZONE
TZID:America/Indiana/Indianapolis
X-LIC-LOCATION:America/Indiana/Indianapolis
BEGIN:DAYLIGHT
DTSTART:20260308T030000
TZOFFSETFROM:-0500
TZOFFSETTO:-0400
TZNAME:EDT
END:DAYLIGHT
END:VTIMEZONE
END:VCALENDAR