BEGIN:VCALENDAR
VERSION:2.0
PRODID:-//wp-events-plugin.com//7.2.3.1//EN
BEGIN:VEVENT
UID:748@hopebridge.com
DTSTART;TZID=America/Phoenix:20260423T173000
DTEND;TZID=America/Phoenix:20260423T183000
DTSTAMP:20260331T190909Z
URL:https://www.hopebridge.com/events/wam-party-flagstaff-23-04-2026/
SUMMARY:Autism Rocks: World Autism Month Party | Flagstaff\, AZ
DESCRIPTION:You're Invited to Autism Rocks: World Autism Month Party\nJoin 
 us for a FREE\, fun\, sensory-friendly community event and dance party as 
 we celebrate World Autism Month.\n\nAutism Rocks... and rolls\, and flaps\
 , and twirls!\nWe're inviting you to a World Autism Month Party at the Fla
 gstaff Hopebridge!\nActivities for the Kids\n\n 	Sensory-Friendly Dance Pa
 rty with soft lighting\, and curated kid-friendly music.\n 	Face Painting 
 Station with hypoallergenic supplies and simple sensory-safe designs.\n 	C
 alming Corner with fidgets\, weighted items\, and quiet sensory bins.\n 	F
 ree pizza as supplies last.\n\nFor families\, caregivers\, referring provi
 ders\, and community partners\n\n 	Meet the Hopebridge Team — learn abou
 t ABA services\, diagnostic evaluations\, and early intervention.\n 	Guide
 d Center Tours for families interested in learning more about our programs
 .\n\nQuestions? Contact Ashley Bitner\, Center Manager (928) 438-9985\n\nW
 ho is Hopebridge? Hopebridge provides personalized therapy for kids with b
 ehavioral\, physical\, social\, communication and sensory challenges. What
  does that look like? It’s different for everyone\, and that’s the ide
 a. Our clinicians meet your child – and your family – wherever they’
 re at\, finding their happy place before moving onto new skills and workin
 g through challenges
ATTACH;FMTTYPE=image/jpeg:https://www.hopebridge.com/wp-content/uploads/20
 26/03/Flagstaff-Event-WAM-Party-photo.png
CATEGORIES:Community,Hopebridge
LOCATION:Hopebridge Flagstaff\, 3480 E Rte 66\, Flagstaff\, AZ\, 86004\, Un
 ited States
GEO:35.214966;-111.599104
X-APPLE-STRUCTURED-LOCATION;VALUE=URI;X-ADDRESS=3480 E Rte 66\, Flagstaff\,
  AZ\, 86004\, United States;X-APPLE-RADIUS=100;X-TITLE=Hopebridge Flagstaf
 f:geo:35.214966,-111.599104
END:VEVENT
BEGIN:VTIMEZONE
TZID:America/Phoenix
X-LIC-LOCATION:America/Phoenix
BEGIN:STANDARD
DTSTART:20250423T173000
TZOFFSETFROM:-0700
TZOFFSETTO:-0700
TZNAME:MST
END:STANDARD
END:VTIMEZONE
END:VCALENDAR